BEGIN:VCALENDAR
VERSION:2.0
PRODID:-//Black Music Festival - ECPv6.15.11//NONSGML v1.0//EN
CALSCALE:GREGORIAN
METHOD:PUBLISH
X-ORIGINAL-URL:https://blackmusicfestival.com/en/
X-WR-CALDESC:Events for Black Music Festival
REFRESH-INTERVAL;VALUE=DURATION:PT1H
X-Robots-Tag:noindex
X-PUBLISHED-TTL:PT1H
BEGIN:VTIMEZONE
TZID:Europe/Helsinki
BEGIN:DAYLIGHT
TZOFFSETFROM:+0200
TZOFFSETTO:+0300
TZNAME:EEST
DTSTART:20230326T010000
END:DAYLIGHT
BEGIN:STANDARD
TZOFFSETFROM:+0300
TZOFFSETTO:+0200
TZNAME:EET
DTSTART:20231029T010000
END:STANDARD
BEGIN:DAYLIGHT
TZOFFSETFROM:+0200
TZOFFSETTO:+0300
TZNAME:EEST
DTSTART:20240331T010000
END:DAYLIGHT
BEGIN:STANDARD
TZOFFSETFROM:+0300
TZOFFSETTO:+0200
TZNAME:EET
DTSTART:20241027T010000
END:STANDARD
BEGIN:DAYLIGHT
TZOFFSETFROM:+0200
TZOFFSETTO:+0300
TZNAME:EEST
DTSTART:20250330T010000
END:DAYLIGHT
BEGIN:STANDARD
TZOFFSETFROM:+0300
TZOFFSETTO:+0200
TZNAME:EET
DTSTART:20251026T010000
END:STANDARD
END:VTIMEZONE
BEGIN:VEVENT
DTSTART;TZID=Europe/Helsinki:20240316T120000
DTEND;TZID=Europe/Helsinki:20240316T133000
DTSTAMP:20260422T151127
CREATED:20240201T094231Z
LAST-MODIFIED:20240201T094231Z
UID:1871-1710590400-1710595800@blackmusicfestival.com
SUMMARY:The Funk Power Station
DESCRIPTION:The Funk Power Station is a band from Empordà made up of 12 musicians that was born in 2018 with the aim of paying tribute to the great formations and artists in the history of Funk\, Soul\, Disco and Rhythm&blues. The concerts of this “Big Band” become a big party where they tirelessly tackle the mission of firing doses of Funk\, Disco & Soul at every concert.
URL:https://blackmusicfestival.com/en/the-funk-power-station/
LOCATION:La Volta\, Pl. de l'Assumpció\, Girona\, Espanya\, 17005\, Espanya
CATEGORIES:The Funk Power Station
ATTACH;FMTTYPE=image/jpeg:https://blackmusicfestival.com/wp-content/uploads/2024/02/The-Funk-Power-Station-1-scaled.jpg
END:VEVENT
END:VCALENDAR